BEGIN:VCALENDAR
VERSION:2.0
PRODID:-//eventon.com NONSGML v1.0//EN
CALSCALE:GREGORIAN
METHOD:PUBLISH
BEGIN:VEVENT
UID:69e74cdf91e32
DTSTAMP:20260421T100935Z
DTSTART:20251129T030000Z
DTEND:20251129T060000Z
LOCATION:
SUMMARY:Reparação de pequenos eletrodomésticos elétricos e brinquedos
DESCRIPTION:No próximo dia 29 de novembro\,  integrado na comemoração da
  Semana Europeia da Prevenção de Resíduos (https://ewwr.eu/por/). vamos 
 dinamiza\,  em Mafra\,  uma sessão de reparação e manutenção de pequen
 as avarias em computadores. Local: Espaço GO Póvoa da Galega - https://ma
 ps.app.goo.gl/kSuGAC1334uqyxi96\nhttps://lababerto.pt/agenda-de-eventos-e-a
 tividades/reparacao-de-pequenos-eletrodomesticos-eletricos-e-brinquedos/
URL:https://lababerto.pt/agenda-de-eventos-e-atividades/reparacao-de-pequenos-eletrodomesticos-eletricos-e-brinquedos/
END:VEVENT
END:VCALENDAR