BEGIN:VCALENDAR
VERSION:2.0
PRODID:-//eventon.com NONSGML v1.0//EN
CALSCALE:GREGORIAN
METHOD:PUBLISH
BEGIN:VEVENT
UID:69e605321abe0
DTSTAMP:20260420T105130Z
DTSTART:20250927
DTEND:20250928
LOCATION:
SUMMARY:Open Day 2025 no LCD do Porto
DESCRIPTION:https://lcdporto.org/pt/event/dia-aberto-2025/ Vamos estar no P
 orto no LCD!\nhttps://lababerto.pt/agenda-de-eventos-e-atividades/open-day-
 2025/
URL:https://lababerto.pt/agenda-de-eventos-e-atividades/open-day-2025/
END:VEVENT
END:VCALENDAR